Package: MOGAMUN Version: 1.16.0 Command: chmod a+r MOGAMUN -R && F:\biocbuild\bbs-3.20-bioc\R\bin\R.exe CMD build --keep-empty-dirs --no-resave-data MOGAMUN StartedAt: 2025-03-31 20:16:56 -0400 (Mon, 31 Mar 2025) EndedAt: 2025-03-31 20:17:24 -0400 (Mon, 31 Mar 2025) EllapsedTime: 27.6 seconds RetCode: 0 Status: OK PackageFile: MOGAMUN_1.16.0.tar.gz PackageFileSize: 126.1 KiB