Package: MOGAMUN Version: 1.16.0 Command: /Library/Frameworks/R.framework/Resources/bin/R CMD build --keep-empty-dirs --no-resave-data MOGAMUN StartedAt: 2025-01-28 03:42:43 -0500 (Tue, 28 Jan 2025) EndedAt: 2025-01-28 03:42:57 -0500 (Tue, 28 Jan 2025) EllapsedTime: 14.5 seconds RetCode: 0 Status: OK PackageFile: MOGAMUN_1.16.0.tar.gz PackageFileSize: 125.6 KiB