Package: MOFA2 Version: 1.16.0 Command: /home/biocbuild/R/R/bin/R CMD INSTALL MOFA2 StartedAt: 2025-01-30 20:18:28 -0000 (Thu, 30 Jan 2025) EndedAt: 2025-01-30 20:18:55 -0000 (Thu, 30 Jan 2025) EllapsedTime: 27.7 seconds RetCode: 0 Status: OK