Package: MOFA2 Version: 1.16.0 Command: chmod a+r MOFA2 -R && F:\biocbuild\bbs-3.20-bioc\R\bin\R.exe CMD build --keep-empty-dirs --no-resave-data MOFA2 StartedAt: 2025-01-30 20:14:32 -0500 (Thu, 30 Jan 2025) EndedAt: 2025-01-30 20:19:05 -0500 (Thu, 30 Jan 2025) EllapsedTime: 273.1 seconds RetCode: 0 Status: OK PackageFile: MOFA2_1.16.0.tar.gz PackageFileSize: 3.134 MiB