Package: MODA Version: 1.32.0 Command: rm -rf MODA.buildbin-libdir && mkdir MODA.buildbin-libdir && F:\biocbuild\bbs-3.20-bioc\R\bin\R.exe CMD INSTALL --build --library=MODA.buildbin-libdir MODA_1.32.0.tar.gz StartedAt: 2025-04-01 08:39:12 -0400 (Tue, 01 Apr 2025) EndedAt: 2025-04-01 08:39:37 -0400 (Tue, 01 Apr 2025) EllapsedTime: 25.0 seconds RetCode: 0 Status: OK PackageFile: MODA_1.32.0.zip PackageFileSize: 360.8 KiB