Package: MMDiff2 Version: 1.34.0 Command: /home/biocbuild/R/R/bin/R CMD INSTALL MMDiff2 StartedAt: 2025-01-30 20:39:54 -0000 (Thu, 30 Jan 2025) EndedAt: 2025-01-30 20:40:39 -0000 (Thu, 30 Jan 2025) EllapsedTime: 45.2 seconds RetCode: 0 Status: OK