Package: MMDiff2 Version: 1.34.0 Command: /home/biocbuild/R/R/bin/R CMD build --keep-empty-dirs --no-resave-data MMDiff2 StartedAt: 2025-02-04 01:03:20 -0000 (Tue, 04 Feb 2025) EndedAt: 2025-02-04 01:05:26 -0000 (Tue, 04 Feb 2025) EllapsedTime: 126.0 seconds RetCode: 0 Status: OK PackageFile: MMDiff2_1.34.0.tar.gz PackageFileSize: 2.859 MiB