Package: MLP Version: 1.54.0 Command: /home/biocbuild/R/R/bin/R CMD INSTALL MLP StartedAt: 2025-01-30 20:22:34 -0000 (Thu, 30 Jan 2025) EndedAt: 2025-01-30 20:22:48 -0000 (Thu, 30 Jan 2025) EllapsedTime: 14.8 seconds RetCode: 0 Status: OK