Package: MLP Version: 1.54.0 Command: F:\biocbuild\bbs-3.20-bioc\R\bin\R.exe CMD INSTALL MLP StartedAt: 2025-01-27 16:01:31 -0500 (Mon, 27 Jan 2025) EndedAt: 2025-01-27 16:01:48 -0500 (Mon, 27 Jan 2025) EllapsedTime: 16.9 seconds RetCode: 0 Status: OK