Package: MLP Version: 1.54.0 Command: /Library/Frameworks/R.framework/Resources/bin/R CMD check --install=check:MLP.install-out.txt --library=/Library/Frameworks/R.framework/Resources/library --no-vignettes --timings MLP_1.54.0.tar.gz StartedAt: 2025-02-04 06:31:38 -0500 (Tue, 04 Feb 2025) EndedAt: 2025-02-04 06:44:42 -0500 (Tue, 04 Feb 2025) EllapsedTime: 783.9 seconds RetCode: 0 Status: OK CheckDir: MLP.Rcheck Warnings: 0