Package: MLP Version: 1.54.0 Command: /Library/Frameworks/R.framework/Resources/bin/R CMD build --keep-empty-dirs --no-resave-data MLP StartedAt: 2025-01-30 20:47:14 -0500 (Thu, 30 Jan 2025) EndedAt: 2025-01-30 20:50:33 -0500 (Thu, 30 Jan 2025) EllapsedTime: 199.0 seconds RetCode: 0 Status: OK PackageFile: MLP_1.54.0.tar.gz PackageFileSize: 4.285 MiB