Package: MLP Version: 1.54.0 Command: rm -rf MLP.buildbin-libdir && mkdir MLP.buildbin-libdir && /Users/biocbuild/BBS/utils/build-universal.sh MLP_1.54.0.tar.gz /Library/Frameworks/R.framework/Resources/bin/R MLP.buildbin-libdir StartedAt: 2025-01-31 13:11:26 -0500 (Fri, 31 Jan 2025) EndedAt: 2025-01-31 13:11:56 -0500 (Fri, 31 Jan 2025) EllapsedTime: 30.0 seconds RetCode: 0 Status: OK PackageFile: MLP_1.54.0.tgz PackageFileSize: 4.337 MiB