Package: MLP Version: 1.54.0 Command: /Library/Frameworks/R.framework/Resources/bin/R CMD INSTALL MLP StartedAt: 2024-11-08 15:20:52 -0500 (Fri, 08 Nov 2024) EndedAt: 2024-11-08 15:20:57 -0500 (Fri, 08 Nov 2024) EllapsedTime: 5.0 seconds RetCode: 0 Status: OK