Package: MLP Version: 1.54.0 Command: /Library/Frameworks/R.framework/Resources/bin/R CMD build --keep-empty-dirs --no-resave-data MLP StartedAt: 2024-11-08 18:10:27 -0500 (Fri, 08 Nov 2024) EndedAt: 2024-11-08 18:10:50 -0500 (Fri, 08 Nov 2024) EllapsedTime: 22.2 seconds RetCode: 0 Status: OK PackageFile: MLP_1.54.0.tar.gz PackageFileSize: 4.285 MiB