Package: MLP Version: 1.54.0 Command: /Library/Frameworks/R.framework/Resources/bin/R CMD build --keep-empty-dirs --no-resave-data MLP StartedAt: 2025-01-28 03:36:57 -0500 (Tue, 28 Jan 2025) EndedAt: 2025-01-28 03:38:07 -0500 (Tue, 28 Jan 2025) EllapsedTime: 69.2 seconds RetCode: 0 Status: OK PackageFile: MLP_1.54.0.tar.gz PackageFileSize: 4.285 MiB