Package: MLInterfaces Version: 1.86.0 Command: F:\biocbuild\bbs-3.20-bioc\R\bin\R.exe CMD INSTALL MLInterfaces StartedAt: 2025-03-31 16:38:26 -0400 (Mon, 31 Mar 2025) EndedAt: 2025-03-31 16:40:58 -0400 (Mon, 31 Mar 2025) EllapsedTime: 152.1 seconds RetCode: 0 Status: OK