Package: MLInterfaces Version: 1.86.0 Command: /home/biocbuild/bbs-3.20-bioc/R/bin/R CMD INSTALL MLInterfaces StartedAt: 2025-03-31 15:46:08 -0400 (Mon, 31 Mar 2025) EndedAt: 2025-03-31 15:46:36 -0400 (Mon, 31 Mar 2025) EllapsedTime: 28.9 seconds RetCode: 0 Status: OK