Package: MLInterfaces Version: 1.86.0 Command: /Library/Frameworks/R.framework/Resources/bin/R CMD INSTALL MLInterfaces StartedAt: 2025-03-31 16:12:47 -0400 (Mon, 31 Mar 2025) EndedAt: 2025-03-31 16:13:54 -0400 (Mon, 31 Mar 2025) EllapsedTime: 66.9 seconds RetCode: 0 Status: OK