Package: MLInterfaces Version: 1.86.0 Command: rm -rf MLInterfaces.buildbin-libdir && mkdir MLInterfaces.buildbin-libdir && /Users/biocbuild/BBS/utils/build-universal.sh MLInterfaces_1.86.0.tar.gz /Library/Frameworks/R.framework/Resources/bin/R MLInterfaces.buildbin-libdir StartedAt: 2025-01-28 13:44:07 -0500 (Tue, 28 Jan 2025) EndedAt: 2025-01-28 13:46:15 -0500 (Tue, 28 Jan 2025) EllapsedTime: 127.9 seconds RetCode: 0 Status: OK PackageFile: MLInterfaces_1.86.0.tgz PackageFileSize: 3.212 MiB