Package: MIRit Version: 1.2.0 Command: /home/biocbuild/R/R/bin/R CMD INSTALL MIRit StartedAt: 2025-01-27 22:01:47 -0000 (Mon, 27 Jan 2025) EndedAt: 2025-01-27 22:02:41 -0000 (Mon, 27 Jan 2025) EllapsedTime: 53.3 seconds RetCode: 0 Status: OK