Package: MIRit Version: 1.2.0 Command: /Library/Frameworks/R.framework/Resources/bin/R CMD build --keep-empty-dirs --no-resave-data MIRit StartedAt: 2025-01-28 03:23:43 -0500 (Tue, 28 Jan 2025) EndedAt: 2025-01-28 03:25:08 -0500 (Tue, 28 Jan 2025) EllapsedTime: 85.7 seconds RetCode: 0 Status: OK PackageFile: MIRit_1.2.0.tar.gz PackageFileSize: 2.717 MiB