Package: MIRA Version: 1.28.0 Command: F:\biocbuild\bbs-3.20-bioc\R\bin\R.exe CMD INSTALL MIRA StartedAt: 2025-03-31 16:29:03 -0400 (Mon, 31 Mar 2025) EndedAt: 2025-03-31 16:29:51 -0400 (Mon, 31 Mar 2025) EllapsedTime: 47.9 seconds RetCode: 0 Status: OK