Package: MGnifyR Version: 1.2.0 Command: F:\biocbuild\bbs-3.20-bioc\R\bin\R.exe CMD INSTALL MGnifyR StartedAt: 2025-01-27 16:56:36 -0500 (Mon, 27 Jan 2025) EndedAt: 2025-01-27 16:57:39 -0500 (Mon, 27 Jan 2025) EllapsedTime: 62.8 seconds RetCode: 0 Status: OK