Package: MGnifyR Version: 1.2.0 Command: /home/biocbuild/bbs-3.20-bioc/R/bin/R CMD check --install=check:MGnifyR.install-out.txt --library=/home/biocbuild/bbs-3.20-bioc/R/site-library --timings MGnifyR_1.2.0.tar.gz StartedAt: 2025-03-31 23:50:49 -0400 (Mon, 31 Mar 2025) EndedAt: 2025-04-01 00:03:08 -0400 (Tue, 01 Apr 2025) EllapsedTime: 738.7 seconds RetCode: 0 Status: OK CheckDir: MGnifyR.Rcheck Warnings: 0