Package: MGFR Version: 1.32.0 Command: /home/biocbuild/bbs-3.20-bioc/R/bin/R CMD build --keep-empty-dirs --no-resave-data --md5 MGFR StartedAt: 2025-01-27 18:57:34 -0500 (Mon, 27 Jan 2025) EndedAt: 2025-01-27 18:57:58 -0500 (Mon, 27 Jan 2025) EllapsedTime: 24.0 seconds RetCode: 1 Status: ERROR PackageFile: None PackageFileSize: NA