Package: MGFR Version: 1.32.0 Command: /Library/Frameworks/R.framework/Resources/bin/R CMD INSTALL MGFR StartedAt: 2025-02-03 15:54:37 -0500 (Mon, 03 Feb 2025) EndedAt: 2025-02-03 15:55:11 -0500 (Mon, 03 Feb 2025) EllapsedTime: 33.9 seconds RetCode: 0 Status: OK