Package: MGFR Version: 1.32.0 Command: /Library/Frameworks/R.framework/Resources/bin/R CMD build --keep-empty-dirs --no-resave-data MGFR StartedAt: 2025-02-03 20:16:21 -0500 (Mon, 03 Feb 2025) EndedAt: 2025-02-03 20:17:42 -0500 (Mon, 03 Feb 2025) EllapsedTime: 81.0 seconds RetCode: 0 Status: OK PackageFile: MGFR_1.32.0.tar.gz PackageFileSize: 1.824 MiB