Package: MGFR Version: 1.32.0 Command: /Library/Frameworks/R.framework/Resources/bin/R CMD check --install=check:MGFR.install-out.txt --library=/Library/Frameworks/R.framework/Resources/library --no-vignettes --timings MGFR_1.32.0.tar.gz StartedAt: 2025-04-02 00:38:49 -0400 (Wed, 02 Apr 2025) EndedAt: 2025-04-02 00:40:53 -0400 (Wed, 02 Apr 2025) EllapsedTime: 123.8 seconds RetCode: 0 Status: OK CheckDir: MGFR.Rcheck Warnings: 0