Package: MGFM Version: 1.40.0 Command: /Library/Frameworks/R.framework/Resources/bin/R CMD build --keep-empty-dirs --no-resave-data MGFM StartedAt: 2025-03-31 20:01:27 -0400 (Mon, 31 Mar 2025) EndedAt: 2025-03-31 20:02:42 -0400 (Mon, 31 Mar 2025) EllapsedTime: 74.7 seconds RetCode: 0 Status: OK PackageFile: MGFM_1.40.0.tar.gz PackageFileSize: 3.491 MiB