Package: MGFM Version: 1.40.0 Command: /Library/Frameworks/R.framework/Resources/bin/R CMD build --keep-empty-dirs --no-resave-data MGFM StartedAt: 2025-04-01 03:03:44 -0400 (Tue, 01 Apr 2025) EndedAt: 2025-04-01 03:04:18 -0400 (Tue, 01 Apr 2025) EllapsedTime: 34.1 seconds RetCode: 0 Status: OK PackageFile: MGFM_1.40.0.tar.gz PackageFileSize: 3.49 MiB