Package: MEIGOR Version: 1.40.0 Command: /home/biocbuild/bbs-3.20-bioc/R/bin/R CMD INSTALL MEIGOR StartedAt: 2025-02-13 15:35:03 -0500 (Thu, 13 Feb 2025) EndedAt: 2025-02-13 15:35:11 -0500 (Thu, 13 Feb 2025) EllapsedTime: 8.6 seconds RetCode: 0 Status: OK