Package: MEIGOR Version: 1.40.0 Command: /home/biocbuild/bbs-3.20-bioc/R/bin/R CMD build --keep-empty-dirs --no-resave-data --md5 MEIGOR StartedAt: 2025-02-13 17:57:31 -0500 (Thu, 13 Feb 2025) EndedAt: 2025-02-13 17:58:14 -0500 (Thu, 13 Feb 2025) EllapsedTime: 43.0 seconds RetCode: 0 Status: OK PackageFile: MEIGOR_1.40.0.tar.gz PackageFileSize: 1.597 MiB