Package: MEIGOR Version: 1.40.0 Command: /Library/Frameworks/R.framework/Resources/bin/R CMD INSTALL MEIGOR StartedAt: 2025-02-13 15:53:24 -0500 (Thu, 13 Feb 2025) EndedAt: 2025-02-13 15:53:45 -0500 (Thu, 13 Feb 2025) EllapsedTime: 21.2 seconds RetCode: 0 Status: OK