Package: MEIGOR Version: 1.40.0 Command: /Library/Frameworks/R.framework/Resources/bin/R CMD INSTALL MEIGOR StartedAt: 2025-02-13 16:38:40 -0500 (Thu, 13 Feb 2025) EndedAt: 2025-02-13 16:38:50 -0500 (Thu, 13 Feb 2025) EllapsedTime: 10.7 seconds RetCode: 0 Status: OK