Package: MEIGOR Version: 1.40.0 Command: rm -rf MEIGOR.buildbin-libdir && mkdir MEIGOR.buildbin-libdir && /Users/biocbuild/BBS/utils/build-universal.sh MEIGOR_1.40.0.tar.gz /Library/Frameworks/R.framework/Resources/bin/R MEIGOR.buildbin-libdir StartedAt: 2025-02-15 16:00:01 -0500 (Sat, 15 Feb 2025) EndedAt: 2025-02-15 16:00:13 -0500 (Sat, 15 Feb 2025) EllapsedTime: 12.5 seconds RetCode: 0 Status: OK PackageFile: MEIGOR_1.40.0.tgz PackageFileSize: 1.92 MiB