Package: MEDME Version: 1.66.0 Command: /home/biocbuild/bbs-3.20-bioc/R/bin/R CMD check --install=check:MEDME.install-out.txt --library=/home/biocbuild/bbs-3.20-bioc/R/site-library --timings MEDME_1.66.0.tar.gz StartedAt: 2025-03-31 23:37:37 -0400 (Mon, 31 Mar 2025) EndedAt: 2025-03-31 23:39:51 -0400 (Mon, 31 Mar 2025) EllapsedTime: 133.1 seconds RetCode: 0 Status: WARNINGS CheckDir: MEDME.Rcheck Warnings: 1