Package: MEDME Version: 1.66.0 Command: /Library/Frameworks/R.framework/Resources/bin/R CMD INSTALL MEDME StartedAt: 2025-02-03 16:28:49 -0500 (Mon, 03 Feb 2025) EndedAt: 2025-02-03 16:29:22 -0500 (Mon, 03 Feb 2025) EllapsedTime: 32.8 seconds RetCode: 0 Status: OK