Package: MEDME Version: 1.66.0 Command: /Library/Frameworks/R.framework/Resources/bin/R CMD build --keep-empty-dirs --no-resave-data MEDME StartedAt: 2025-01-27 20:14:36 -0500 (Mon, 27 Jan 2025) EndedAt: 2025-01-27 20:16:18 -0500 (Mon, 27 Jan 2025) EllapsedTime: 101.6 seconds RetCode: 0 Status: OK PackageFile: MEDME_1.66.0.tar.gz PackageFileSize: 448.1 KiB