Package: MEDME Version: 1.66.0 Maintainer: Mattia Pelizzola MaintainerEmail: mattia.pelizzola at gmail.com git_url: https://git.bioconductor.org/packages/MEDME git_branch: RELEASE_3_20 git_last_commit: f612263 git_last_commit_date: 2024-10-29 09:29:59 -0500 (Tue, 29 Oct 2024)