Package: MEDIPS Version: 1.58.0 Command: /Library/Frameworks/R.framework/Resources/bin/R CMD build --keep-empty-dirs --no-resave-data MEDIPS StartedAt: 2025-01-28 02:38:51 -0500 (Tue, 28 Jan 2025) EndedAt: 2025-01-28 02:41:18 -0500 (Tue, 28 Jan 2025) EllapsedTime: 146.2 seconds RetCode: 0 Status: OK PackageFile: MEDIPS_1.58.0.tar.gz PackageFileSize: 321.6 KiB