Package: MEB Version: 1.20.0 Command: /home/biocbuild/R/R/bin/R CMD INSTALL MEB StartedAt: 2025-02-10 21:02:04 -0000 (Mon, 10 Feb 2025) EndedAt: 2025-02-10 21:02:42 -0000 (Mon, 10 Feb 2025) EllapsedTime: 37.5 seconds RetCode: 0 Status: OK