Package: MEB Version: 1.20.0 Command: rm -rf MEB.buildbin-libdir && mkdir MEB.buildbin-libdir && /Users/biocbuild/BBS/utils/build-universal.sh MEB_1.20.0.tar.gz /Library/Frameworks/R.framework/Resources/bin/R MEB.buildbin-libdir StartedAt: 2025-04-01 12:11:06 -0400 (Tue, 01 Apr 2025) EndedAt: 2025-04-01 12:12:10 -0400 (Tue, 01 Apr 2025) EllapsedTime: 64.1 seconds RetCode: 0 Status: OK PackageFile: MEB_1.20.0.tgz PackageFileSize: 1.445 MiB