Package: MEB Version: 1.20.0 Command: rm -rf MEB.buildbin-libdir && mkdir MEB.buildbin-libdir && /Users/biocbuild/BBS/utils/build-universal.sh MEB_1.20.0.tar.gz /Library/Frameworks/R.framework/Resources/bin/R MEB.buildbin-libdir StartedAt: 2024-11-20 04:35:11 -0500 (Wed, 20 Nov 2024) EndedAt: 2024-11-20 04:35:56 -0500 (Wed, 20 Nov 2024) EllapsedTime: 44.8 seconds RetCode: 0 Status: OK PackageFile: MEB_1.20.0.tgz PackageFileSize: 1.526 MiB