Package: MEB Version: 1.20.0 Command: /Library/Frameworks/R.framework/Resources/bin/R CMD INSTALL MEB StartedAt: 2025-01-27 17:55:55 -0500 (Mon, 27 Jan 2025) EndedAt: 2025-01-27 17:56:28 -0500 (Mon, 27 Jan 2025) EllapsedTime: 32.6 seconds RetCode: 0 Status: OK