Package: MEB Version: 1.20.0 Command: rm -rf MEB.buildbin-libdir && mkdir MEB.buildbin-libdir && /Users/biocbuild/BBS/utils/build-universal.sh MEB_1.20.0.tar.gz /Library/Frameworks/R.framework/Resources/bin/R MEB.buildbin-libdir StartedAt: 2025-01-29 15:19:34 -0500 (Wed, 29 Jan 2025) EndedAt: 2025-01-29 15:20:10 -0500 (Wed, 29 Jan 2025) EllapsedTime: 35.9 seconds RetCode: 0 Status: OK PackageFile: MEB_1.20.0.tgz PackageFileSize: 1.526 MiB