Package: MEAL Version: 1.36.0 Command: /Library/Frameworks/R.framework/Resources/bin/R CMD build --keep-empty-dirs --no-resave-data MEAL StartedAt: 2025-01-30 20:24:38 -0500 (Thu, 30 Jan 2025) EndedAt: 2025-01-30 20:44:08 -0500 (Thu, 30 Jan 2025) EllapsedTime: 1170.0 seconds RetCode: 0 Status: OK PackageFile: MEAL_1.36.0.tar.gz PackageFileSize: 2.067 MiB