Package: MDTS Version: 1.26.0 Command: /home/biocbuild/R/R/bin/R CMD INSTALL MDTS StartedAt: 2025-03-31 20:31:36 -0000 (Mon, 31 Mar 2025) EndedAt: 2025-03-31 20:32:10 -0000 (Mon, 31 Mar 2025) EllapsedTime: 33.5 seconds RetCode: 0 Status: OK