Package: MDTS Version: 1.26.0 Command: /home/biocbuild/R/R/bin/R CMD build --keep-empty-dirs --no-resave-data MDTS StartedAt: 2025-01-31 00:42:32 -0000 (Fri, 31 Jan 2025) EndedAt: 2025-01-31 00:43:17 -0000 (Fri, 31 Jan 2025) EllapsedTime: 45.0 seconds RetCode: 0 Status: OK PackageFile: MDTS_1.26.0.tar.gz PackageFileSize: 31.5 KiB