Package: MDTS Version: 1.26.0 Command: /Library/Frameworks/R.framework/Resources/bin/R CMD build --keep-empty-dirs --no-resave-data MDTS StartedAt: 2025-01-30 20:24:37 -0500 (Thu, 30 Jan 2025) EndedAt: 2025-01-30 20:26:16 -0500 (Thu, 30 Jan 2025) EllapsedTime: 99.0 seconds RetCode: 0 Status: OK PackageFile: MDTS_1.26.0.tar.gz PackageFileSize: 31.39 KiB