Package: MCbiclust Version: 1.30.0 Command: /Library/Frameworks/R.framework/Resources/bin/R CMD check --install=check:MCbiclust.install-out.txt --library=/Library/Frameworks/R.framework/Resources/library --no-vignettes --timings MCbiclust_1.30.0.tar.gz StartedAt: 2025-01-28 06:05:54 -0500 (Tue, 28 Jan 2025) EndedAt: 2025-01-28 06:19:17 -0500 (Tue, 28 Jan 2025) EllapsedTime: 803.4 seconds RetCode: 0 Status: OK CheckDir: MCbiclust.Rcheck Warnings: 0